BEGIN:VCALENDAR
VERSION:2.0
PRODID:-//South Bay Association of Realtors - ECPv6.15.20//NONSGML v1.0//EN
CALSCALE:GREGORIAN
METHOD:PUBLISH
X-WR-CALNAME:South Bay Association of Realtors
X-ORIGINAL-URL:https://southbayaor.com
X-WR-CALDESC:Events for South Bay Association of Realtors
REFRESH-INTERVAL;VALUE=DURATION:PT1H
X-Robots-Tag:noindex
X-PUBLISHED-TTL:PT1H
BEGIN:VTIMEZONE
TZID:UTC
BEGIN:STANDARD
TZOFFSETFROM:+0000
TZOFFSETTO:+0000
TZNAME:UTC
DTSTART:20220101T000000
END:STANDARD
END:VTIMEZONE
BEGIN:VEVENT
DTSTART;TZID=UTC:20230123T110000
DTEND;TZID=UTC:20230123T120000
DTSTAMP:20260425T152939
CREATED:20230110T060757Z
LAST-MODIFIED:20230120T081612Z
UID:10000051-1674471600-1674475200@southbayaor.com
SUMMARY:Solar Contracts and HERO Liens
DESCRIPTION:All agents should know some basics about solar contracts and hero liens as they can impact a transaction significantly. With new laws and loan programs green energy issues are growing every year and need to be navigated in a sale transaction\, we can teach you some basics to give you the knowledge to accomplish this.
URL:https://southbayaor.com/event/solar-contracts-and-hero-liens/
LOCATION:Via Zoom
CATEGORIES:Education
END:VEVENT
END:VCALENDAR