BEGIN:VCALENDAR
VERSION:2.0
PRODID:-//South Bay Association of Realtors - ECPv6.15.20//NONSGML v1.0//EN
CALSCALE:GREGORIAN
METHOD:PUBLISH
X-ORIGINAL-URL:https://southbayaor.com
X-WR-CALDESC:Events for South Bay Association of Realtors
REFRESH-INTERVAL;VALUE=DURATION:PT1H
X-Robots-Tag:noindex
X-PUBLISHED-TTL:PT1H
BEGIN:VTIMEZONE
TZID:UTC
BEGIN:STANDARD
TZOFFSETFROM:+0000
TZOFFSETTO:+0000
TZNAME:UTC
DTSTART:20220101T000000
END:STANDARD
END:VTIMEZONE
BEGIN:VEVENT
DTSTART;TZID=UTC:20230125T100000
DTEND;TZID=UTC:20230125T120000
DTSTAMP:20260425T112629
CREATED:20230118T012147Z
LAST-MODIFIED:20230118T012147Z
UID:10000083-1674640800-1674648000@southbayaor.com
SUMMARY:Introductory to Commercial Real Estate Analysis - LIVE CLASS
DESCRIPTION:This is a NEW class that we rolled out and it’s becoming VERY popular! In this course\, The NCREA will take you through an introduction of the buyers and sellers’ math. You will discover the difference between before tax and after-tax ROI and how investors use them to identify their next purchase. Learn how to calculate more than just your commission in this amazing introductory class.
URL:https://southbayaor.com/event/introductory-to-commercial-real-estate-analysis-live-class/
LOCATION:South Bay AOR\, Torrance\, California\, 90501
END:VEVENT
END:VCALENDAR