BEGIN:VCALENDAR
VERSION:2.0
PRODID:-//South Bay Association of Realtors - ECPv6.15.20//NONSGML v1.0//EN
CALSCALE:GREGORIAN
METHOD:PUBLISH
X-WR-CALNAME:South Bay Association of Realtors
X-ORIGINAL-URL:https://southbayaor.com
X-WR-CALDESC:Events for South Bay Association of Realtors
REFRESH-INTERVAL;VALUE=DURATION:PT1H
X-Robots-Tag:noindex
X-PUBLISHED-TTL:PT1H
BEGIN:VTIMEZONE
TZID:UTC
BEGIN:STANDARD
TZOFFSETFROM:+0000
TZOFFSETTO:+0000
TZNAME:UTC
DTSTART:20220101T000000
END:STANDARD
END:VTIMEZONE
BEGIN:VEVENT
DTSTART;TZID=UTC:20230320T100000
DTEND;TZID=UTC:20230320T110000
DTSTAMP:20260425T194641
CREATED:20230203T042800Z
LAST-MODIFIED:20230203T042800Z
UID:10000287-1679306400-1679310000@southbayaor.com
SUMMARY:Diversity Committee Meeting
DESCRIPTION:
URL:https://southbayaor.com/event/diversity-committee-meeting/
LOCATION:Via Zoom
CATEGORIES:Committee Meetings
END:VEVENT
BEGIN:VEVENT
DTSTART;TZID=UTC:20230320T100000
DTEND;TZID=UTC:20230320T120000
DTSTAMP:20260425T194641
CREATED:20230110T061331Z
LAST-MODIFIED:20230322T002146Z
UID:10000056-1679306400-1679313600@southbayaor.com
SUMMARY:1031 Basics and How to Adjust Your Marketing to Create Investor Business
DESCRIPTION:How it Works\, How to find Replacement Property in Time\, How to Market to RE Investors
URL:https://southbayaor.com/event/1031-basics-and-how-to-adjust-your-marketing-to-create-investor-business/
LOCATION:Via Zoom
END:VEVENT
END:VCALENDAR