BEGIN:VCALENDAR
VERSION:2.0
PRODID:-//South Bay Association of Realtors - ECPv6.15.20//NONSGML v1.0//EN
CALSCALE:GREGORIAN
METHOD:PUBLISH
X-ORIGINAL-URL:https://southbayaor.com
X-WR-CALDESC:Events for South Bay Association of Realtors
REFRESH-INTERVAL;VALUE=DURATION:PT1H
X-Robots-Tag:noindex
X-PUBLISHED-TTL:PT1H
BEGIN:VTIMEZONE
TZID:UTC
BEGIN:STANDARD
TZOFFSETFROM:+0000
TZOFFSETTO:+0000
TZNAME:UTC
DTSTART:20220101T000000
END:STANDARD
END:VTIMEZONE
BEGIN:VEVENT
DTSTART;TZID=UTC:20230517T090000
DTEND;TZID=UTC:20230517T120000
DTSTAMP:20260421T120252
CREATED:20230110T062644Z
LAST-MODIFIED:20230926T235717Z
UID:10000445-1684314000-1684324800@southbayaor.com
SUMMARY:Orientation - LIVE at SBAOR
DESCRIPTION:
URL:https://southbayaor.com/event/orientation-4/2023-05-17/
LOCATION:SBAOR
END:VEVENT
BEGIN:VEVENT
DTSTART;TZID=UTC:20230517T140000
DTEND;TZID=UTC:20230517T150000
DTSTAMP:20260421T120252
CREATED:20230203T055750Z
LAST-MODIFIED:20230907T230514Z
UID:10000437-1684332000-1684335600@southbayaor.com
SUMMARY:YPN Committee Meeting
DESCRIPTION:The Young Professionals Network Committee offers a platform for young\, professional REALTORS® to exchange knowledge\, establish meaningful relationships and discuss the latest innovative trends and ideas. \nMeeting Date: Third Wednesday of the Month at 2:00pm \nEmail Helyana@southbayaor.com if you are interested in being a member of the YPN Committee.
URL:https://southbayaor.com/event/ypn-committee-meeting/2023-05-17/
LOCATION:Via Zoom
CATEGORIES:Committee Meetings
END:VEVENT
END:VCALENDAR