BEGIN:VCALENDAR
VERSION:2.0
PRODID:-//South Bay Association of Realtors - ECPv6.15.20//NONSGML v1.0//EN
CALSCALE:GREGORIAN
METHOD:PUBLISH
X-WR-CALNAME:South Bay Association of Realtors
X-ORIGINAL-URL:https://southbayaor.com
X-WR-CALDESC:Events for South Bay Association of Realtors
REFRESH-INTERVAL;VALUE=DURATION:PT1H
X-Robots-Tag:noindex
X-PUBLISHED-TTL:PT1H
BEGIN:VTIMEZONE
TZID:America/Los_Angeles
BEGIN:DAYLIGHT
TZOFFSETFROM:-0800
TZOFFSETTO:-0700
TZNAME:PDT
DTSTART:20230312T100000
END:DAYLIGHT
BEGIN:STANDARD
TZOFFSETFROM:-0700
TZOFFSETTO:-0800
TZNAME:PST
DTSTART:20231105T090000
END:STANDARD
BEGIN:DAYLIGHT
TZOFFSETFROM:-0800
TZOFFSETTO:-0700
TZNAME:PDT
DTSTART:20240310T100000
END:DAYLIGHT
BEGIN:STANDARD
TZOFFSETFROM:-0700
TZOFFSETTO:-0800
TZNAME:PST
DTSTART:20241103T090000
END:STANDARD
BEGIN:DAYLIGHT
TZOFFSETFROM:-0800
TZOFFSETTO:-0700
TZNAME:PDT
DTSTART:20250309T100000
END:DAYLIGHT
BEGIN:STANDARD
TZOFFSETFROM:-0700
TZOFFSETTO:-0800
TZNAME:PST
DTSTART:20251102T090000
END:STANDARD
END:VTIMEZONE
BEGIN:VEVENT
DTSTART;TZID=America/Los_Angeles:20240229T100000
DTEND;TZID=America/Los_Angeles:20240229T110000
DTSTAMP:20260422T154925
CREATED:20231214T204522Z
LAST-MODIFIED:20240213T004257Z
UID:10001005-1709200800-1709204400@southbayaor.com
SUMMARY:Power of Attorneys & Real Estate - LIVE AT SBAOR
DESCRIPTION:Now more than ever buyers and sellers are using power of attorneys in real estate transactions due to the convenience it gives them when one party is traveling or otherwise unavailable. For this reason it’s important for all real estate agents to understand the basics of power of attorneys including terminology\, title and escrow requirements and issues to consider from the very beginning. Our agent talk will give great insight into this topic and assist you in having a smooth closing whenever there is a power of attorney involved.
URL:https://southbayaor.com/event/power-of-attorneys-real-estate-live-at-sbaor/
LOCATION:South Bay AOR\, Torrance\, California\, 90501
CATEGORIES:Education
END:VEVENT
END:VCALENDAR