BEGIN:VCALENDAR
VERSION:2.0
PRODID:-//South Bay Association of Realtors - ECPv6.15.20//NONSGML v1.0//EN
CALSCALE:GREGORIAN
METHOD:PUBLISH
X-WR-CALNAME:South Bay Association of Realtors
X-ORIGINAL-URL:https://southbayaor.com
X-WR-CALDESC:Events for South Bay Association of Realtors
REFRESH-INTERVAL;VALUE=DURATION:PT1H
X-Robots-Tag:noindex
X-PUBLISHED-TTL:PT1H
BEGIN:VTIMEZONE
TZID:America/Los_Angeles
BEGIN:DAYLIGHT
TZOFFSETFROM:-0800
TZOFFSETTO:-0700
TZNAME:PDT
DTSTART:20230312T100000
END:DAYLIGHT
BEGIN:STANDARD
TZOFFSETFROM:-0700
TZOFFSETTO:-0800
TZNAME:PST
DTSTART:20231105T090000
END:STANDARD
BEGIN:DAYLIGHT
TZOFFSETFROM:-0800
TZOFFSETTO:-0700
TZNAME:PDT
DTSTART:20240310T100000
END:DAYLIGHT
BEGIN:STANDARD
TZOFFSETFROM:-0700
TZOFFSETTO:-0800
TZNAME:PST
DTSTART:20241103T090000
END:STANDARD
BEGIN:DAYLIGHT
TZOFFSETFROM:-0800
TZOFFSETTO:-0700
TZNAME:PDT
DTSTART:20250309T100000
END:DAYLIGHT
BEGIN:STANDARD
TZOFFSETFROM:-0700
TZOFFSETTO:-0800
TZNAME:PST
DTSTART:20251102T090000
END:STANDARD
END:VTIMEZONE
BEGIN:VEVENT
DTSTART;TZID=America/Los_Angeles:20240404T090000
DTEND;TZID=America/Los_Angeles:20240404T150000
DTSTAMP:20260422T073437
CREATED:20240112T233307Z
LAST-MODIFIED:20240212T212316Z
UID:10001038-1712221200-1712242800@southbayaor.com
SUMMARY:Certified Investor Agent Specialist Designation Course - Day 2 LIVE AT SBAOR
DESCRIPTION:A Certified Investor Agent Specialist™ (CIAS) is the go-to expert for navigating the realm of real estate investment. \nThese agents bring a wealth of knowledge and tools acquired through comprehensive education and hands-on experience\, enabling them to identify\, create and close deals with residential real estate investors. \nCIAS-designated agents are instrumental in streamlining the real estate investment process\, ultimately leading to increased returns for their investor clients. They possess expertise in investment strategies\, financial tools like self-directed IRAs and 1031 exchanges and are well-versed in key calculations such as return-on-investment\, capitalization rates\, average returns and cash flow. \nThe CIAS course includes: \n» 2 Full Days of High Level Training\n» 300 + Page Student Manual\n» Over 80 Investor Resources\n» Learn the Language of Investing\n» Investment Calculations\n» Building an Investor Business\n» The 5 Investor Types\n» Community & Networking\n» Marketing Resources\n» Lead Generation Systems\n» Investment Calculators\n» Investment Lending\n» 1031 Tax Deferred Exchange\n» Self-Directed IRA’s\n» Rehab & Resell\n» Legal Obligations & Limitations \nCompleting the 2-day course gains you the designation and membership to CIAS.
URL:https://southbayaor.com/event/certified-investor-agent-specialist-designation-course-day-2-live-at-sbaor/
LOCATION:South Bay AOR\, Torrance\, California\, 90501
CATEGORIES:Education
END:VEVENT
BEGIN:VEVENT
DTSTART;TZID=America/Los_Angeles:20240404T190000
DTEND;TZID=America/Los_Angeles:20240404T210000
DTSTAMP:20260422T073437
CREATED:20240314T194248Z
LAST-MODIFIED:20240314T194248Z
UID:10001091-1712257200-1712264400@southbayaor.com
SUMMARY:YPN Comedy Show
DESCRIPTION:Join South Bay YPN and come laugh the night away with star-studded comedian Dustin Ybarra. You do NOT want to miss out on this fun networking event. Space is limited so sign-up ASAP! \n  \nDate: Thursday\, April 4th \nTime: 7pm-9pm \n  \nLocation: The End \n4525 Calle Mayor. Torrance\, 90505 \n  \nEntry fee $30 for members and non-members (Includes comedy show\, taco bar and soft drinks) \n  \n** Last day to cancel registration & cut-off date to register for event will be 4/1 @ 5PM **
URL:https://southbayaor.com/event/ypn-comedy-show/
LOCATION:The End\, 4525 Calle Mayor\, Torrance\, CA\, 90505\, United States
CATEGORIES:Special Events
END:VEVENT
END:VCALENDAR