BEGIN:VCALENDAR
VERSION:2.0
PRODID:-//South Bay Association of Realtors - ECPv6.15.20//NONSGML v1.0//EN
CALSCALE:GREGORIAN
METHOD:PUBLISH
X-ORIGINAL-URL:https://southbayaor.com
X-WR-CALDESC:Events for South Bay Association of Realtors
REFRESH-INTERVAL;VALUE=DURATION:PT1H
X-Robots-Tag:noindex
X-PUBLISHED-TTL:PT1H
BEGIN:VTIMEZONE
TZID:America/Los_Angeles
BEGIN:DAYLIGHT
TZOFFSETFROM:-0800
TZOFFSETTO:-0700
TZNAME:PDT
DTSTART:20230312T100000
END:DAYLIGHT
BEGIN:STANDARD
TZOFFSETFROM:-0700
TZOFFSETTO:-0800
TZNAME:PST
DTSTART:20231105T090000
END:STANDARD
BEGIN:DAYLIGHT
TZOFFSETFROM:-0800
TZOFFSETTO:-0700
TZNAME:PDT
DTSTART:20240310T100000
END:DAYLIGHT
BEGIN:STANDARD
TZOFFSETFROM:-0700
TZOFFSETTO:-0800
TZNAME:PST
DTSTART:20241103T090000
END:STANDARD
BEGIN:DAYLIGHT
TZOFFSETFROM:-0800
TZOFFSETTO:-0700
TZNAME:PDT
DTSTART:20250309T100000
END:DAYLIGHT
BEGIN:STANDARD
TZOFFSETFROM:-0700
TZOFFSETTO:-0800
TZNAME:PST
DTSTART:20251102T090000
END:STANDARD
END:VTIMEZONE
BEGIN:VTIMEZONE
TZID:UTC
BEGIN:STANDARD
TZOFFSETFROM:+0000
TZOFFSETTO:+0000
TZNAME:UTC
DTSTART:20230101T000000
END:STANDARD
END:VTIMEZONE
BEGIN:VEVENT
DTSTART;TZID=America/Los_Angeles:20240409T093000
DTEND;TZID=America/Los_Angeles:20240409T103000
DTSTAMP:20260423T095224
CREATED:20240125T215132Z
LAST-MODIFIED:20240906T025805Z
UID:10000732-1712655000-1712658600@southbayaor.com
SUMMARY:Community Committee Meeting
DESCRIPTION:The Community Committee’s mission is to promote a sense of community among the members of the South Bay Association of REALTORS®. The committee will involve our membership in cooperative efforts with South Bay elected officials and residents to learn about and improve the communities in which we work. \nMeeting Date: Second Tuesday of the Month at 9:30am \nEmail Helyana@southbayaor.com if you are interested in being a member of the Community Committee.
URL:https://southbayaor.com/event/community-committee-meeting-3-2/2024-04-09/
LOCATION:Via Zoom
CATEGORIES:Committee Meetings
END:VEVENT
BEGIN:VEVENT
DTSTART;TZID=UTC:20240409T110000
DTEND;TZID=UTC:20240409T123000
DTSTAMP:20260423T095224
CREATED:20240314T201304Z
LAST-MODIFIED:20240314T201647Z
UID:10001092-1712660400-1712665800@southbayaor.com
SUMMARY:How to Generate Exclusive Leads with Social Media for Realtors - LIVE AT SBAOR
DESCRIPTION:In this class you will discover the basics of Social media marketing. Learn how to generate your own Exclusive leads and stop overpaying for shared leads that don’t convert. You will also learn how to rank #1 on YouTube. Please make sure you bring your laptop or notebook computer. \nTopics Covered will include:\n-How to create your 1st Facebook Ad.\n-How to make your first video on YouTube and rank #1.\n-How to create your exclusive leads and stop overpaying for shared leads.\n-How to use a CRM for follow up of leads and conversion
URL:https://southbayaor.com/event/how-to-generate-exclusive-leads-with-social-media-for-realtors-live-at-sbaor/
LOCATION:South Bay AOR\, Torrance\, California\, 90501
CATEGORIES:Education
END:VEVENT
BEGIN:VEVENT
DTSTART;TZID=America/Los_Angeles:20240409T130000
DTEND;TZID=America/Los_Angeles:20240409T160000
DTSTAMP:20260423T095224
CREATED:20240221T193928Z
LAST-MODIFIED:20240408T201756Z
UID:10001057-1712667600-1712678400@southbayaor.com
SUMMARY:RLA & BRBC
DESCRIPTION:Join the SBAOR for a virtual training of the RLA. Knowledge of the Residential Listing Agreement is essential in residential real estate. Gain a better understanding of the contract and the ancillary documents so you can confidently and safely help your sellers.
URL:https://southbayaor.com/event/rla-brbc/
LOCATION:Via Zoom
CATEGORIES:Education
END:VEVENT
END:VCALENDAR