BEGIN:VCALENDAR
VERSION:2.0
PRODID:-//South Bay Association of Realtors - ECPv6.15.20//NONSGML v1.0//EN
CALSCALE:GREGORIAN
METHOD:PUBLISH
X-ORIGINAL-URL:https://southbayaor.com
X-WR-CALDESC:Events for South Bay Association of Realtors
REFRESH-INTERVAL;VALUE=DURATION:PT1H
X-Robots-Tag:noindex
X-PUBLISHED-TTL:PT1H
BEGIN:VTIMEZONE
TZID:America/Los_Angeles
BEGIN:DAYLIGHT
TZOFFSETFROM:-0800
TZOFFSETTO:-0700
TZNAME:PDT
DTSTART:20240310T100000
END:DAYLIGHT
BEGIN:STANDARD
TZOFFSETFROM:-0700
TZOFFSETTO:-0800
TZNAME:PST
DTSTART:20241103T090000
END:STANDARD
BEGIN:DAYLIGHT
TZOFFSETFROM:-0800
TZOFFSETTO:-0700
TZNAME:PDT
DTSTART:20250309T100000
END:DAYLIGHT
BEGIN:STANDARD
TZOFFSETFROM:-0700
TZOFFSETTO:-0800
TZNAME:PST
DTSTART:20251102T090000
END:STANDARD
BEGIN:DAYLIGHT
TZOFFSETFROM:-0800
TZOFFSETTO:-0700
TZNAME:PDT
DTSTART:20260308T100000
END:DAYLIGHT
BEGIN:STANDARD
TZOFFSETFROM:-0700
TZOFFSETTO:-0800
TZNAME:PST
DTSTART:20261101T090000
END:STANDARD
END:VTIMEZONE
BEGIN:VEVENT
DTSTART;TZID=America/Los_Angeles:20250306T090000
DTEND;TZID=America/Los_Angeles:20250306T100000
DTSTAMP:20260422T065921
CREATED:20250115T224933Z
LAST-MODIFIED:20250115T224933Z
UID:10001519-1741251600-1741255200@southbayaor.com
SUMMARY:MLS Virtual Training: Matrix - Creating a CMA
DESCRIPTION:Comparative Market Analyses (CMAs) are easy-to-read reports that provide your clients with a better understanding of the current market. Learning how to create CMAs in CRMLS Paragon will not only go a long way towards impressing your clients\, but also will ensure you’re caught up with the latest market trends to stay on top of the real estate industry. \nTopics include: \n\nCreating\, saving\, and modifying CMA presentations in Paragon\nMap searching to find comparables\nSetting up your CMA preferences
URL:https://southbayaor.com/event/mls-virtual-training-matrix-creating-a-cma/
LOCATION:Via Zoom
CATEGORIES:Education,MLS Training
END:VEVENT
BEGIN:VEVENT
DTSTART;TZID=America/Los_Angeles:20250306T090000
DTEND;TZID=America/Los_Angeles:20250306T143000
DTSTAMP:20260422T065921
CREATED:20250206T005209Z
LAST-MODIFIED:20250211T233352Z
UID:10001532-1741251600-1741271400@southbayaor.com
SUMMARY:The New Normal: Role Play & Discussion of the New C.A.R. Forms - LIVE AT SBAOR
DESCRIPTION:Back by multiple demands! Your concerns were vocalized regarding the changes in real estate practices. Put your mind as ease knowing you have what it takes to protect your business and guarantee exceptional service to your clients. \nJoin Ginni Field and your real estate colleagues for an all-day discussion and role-playing session. Learn how to answer questions and handle concerns with clients as you interact scenarios involving Sellers\, Buyers\, and Open Houses. \nFree for South Bay AOR REALTOR Members! \nPlease bring with you the following C.A.R. forms: \n\nRLA\nMLSA\nBRBC\nOHNA-SI\nPSRA\nBCA\nRPA\nSPBB\nMT-BR\nNBIP\n\n**NO-SHOW & CANCELLATION NOTICE: There will be a $50 fee if you do not show up or cancel your registration by March 3 at 5pm
URL:https://southbayaor.com/event/the-new-normal-role-play-discussion-of-the-new-c-a-r-forms-live-at-sbaor/
LOCATION:South Bay AOR\, Torrance\, California\, 90501
CATEGORIES:Education
END:VEVENT
END:VCALENDAR