BEGIN:VCALENDAR
VERSION:2.0
PRODID:-//South Bay Association of Realtors - ECPv6.15.20//NONSGML v1.0//EN
CALSCALE:GREGORIAN
METHOD:PUBLISH
X-ORIGINAL-URL:https://southbayaor.com
X-WR-CALDESC:Events for South Bay Association of Realtors
REFRESH-INTERVAL;VALUE=DURATION:PT1H
X-Robots-Tag:noindex
X-PUBLISHED-TTL:PT1H
BEGIN:VTIMEZONE
TZID:America/Los_Angeles
BEGIN:DAYLIGHT
TZOFFSETFROM:-0800
TZOFFSETTO:-0700
TZNAME:PDT
DTSTART:20240310T100000
END:DAYLIGHT
BEGIN:STANDARD
TZOFFSETFROM:-0700
TZOFFSETTO:-0800
TZNAME:PST
DTSTART:20241103T090000
END:STANDARD
BEGIN:DAYLIGHT
TZOFFSETFROM:-0800
TZOFFSETTO:-0700
TZNAME:PDT
DTSTART:20250309T100000
END:DAYLIGHT
BEGIN:STANDARD
TZOFFSETFROM:-0700
TZOFFSETTO:-0800
TZNAME:PST
DTSTART:20251102T090000
END:STANDARD
BEGIN:DAYLIGHT
TZOFFSETFROM:-0800
TZOFFSETTO:-0700
TZNAME:PDT
DTSTART:20260308T100000
END:DAYLIGHT
BEGIN:STANDARD
TZOFFSETFROM:-0700
TZOFFSETTO:-0800
TZNAME:PST
DTSTART:20261101T090000
END:STANDARD
END:VTIMEZONE
BEGIN:VEVENT
DTSTART;TZID=America/Los_Angeles:20250522T090000
DTEND;TZID=America/Los_Angeles:20250522T103000
DTSTAMP:20260421T081454
CREATED:20241213T232411Z
LAST-MODIFIED:20241213T232836Z
UID:10001497-1747904400-1747909800@southbayaor.com
SUMMARY:Government Affairs Committee Meeting
DESCRIPTION:Email Gina Hoskins at Gina@SouthBayAOR.com for more information
URL:https://southbayaor.com/event/government-affairs-committee-meeting-16/
LOCATION:Via Zoom
CATEGORIES:Committee Meetings,Government Affairs
END:VEVENT
BEGIN:VEVENT
DTSTART;TZID=America/Los_Angeles:20250522T100000
DTEND;TZID=America/Los_Angeles:20250522T110000
DTSTAMP:20260421T081454
CREATED:20250512T233530Z
LAST-MODIFIED:20250515T214257Z
UID:10001586-1747908000-1747911600@southbayaor.com
SUMMARY:Negotiate to Find the Win Win
DESCRIPTION:Hone your negotiation skills with sincerity\, integrity\, and strategy to find the win-win solutions for yourself and your clients.
URL:https://southbayaor.com/event/negotiate-to-find-the-win-win/
LOCATION:South Bay AOR\, Torrance\, California\, 90501
CATEGORIES:Education
END:VEVENT
END:VCALENDAR