BEGIN:VCALENDAR
VERSION:2.0
PRODID:-//South Bay Association of Realtors - ECPv6.15.20//NONSGML v1.0//EN
CALSCALE:GREGORIAN
METHOD:PUBLISH
X-ORIGINAL-URL:https://southbayaor.com
X-WR-CALDESC:Events for South Bay Association of Realtors
REFRESH-INTERVAL;VALUE=DURATION:PT1H
X-Robots-Tag:noindex
X-PUBLISHED-TTL:PT1H
BEGIN:VTIMEZONE
TZID:America/Los_Angeles
BEGIN:DAYLIGHT
TZOFFSETFROM:-0800
TZOFFSETTO:-0700
TZNAME:PDT
DTSTART:20240310T100000
END:DAYLIGHT
BEGIN:STANDARD
TZOFFSETFROM:-0700
TZOFFSETTO:-0800
TZNAME:PST
DTSTART:20241103T090000
END:STANDARD
BEGIN:DAYLIGHT
TZOFFSETFROM:-0800
TZOFFSETTO:-0700
TZNAME:PDT
DTSTART:20250309T100000
END:DAYLIGHT
BEGIN:STANDARD
TZOFFSETFROM:-0700
TZOFFSETTO:-0800
TZNAME:PST
DTSTART:20251102T090000
END:STANDARD
BEGIN:DAYLIGHT
TZOFFSETFROM:-0800
TZOFFSETTO:-0700
TZNAME:PDT
DTSTART:20260308T100000
END:DAYLIGHT
BEGIN:STANDARD
TZOFFSETFROM:-0700
TZOFFSETTO:-0800
TZNAME:PST
DTSTART:20261101T090000
END:STANDARD
END:VTIMEZONE
BEGIN:VEVENT
DTSTART;TZID=America/Los_Angeles:20250624T120000
DTEND;TZID=America/Los_Angeles:20250624T150000
DTSTAMP:20260421T081354
CREATED:20250618T234519Z
LAST-MODIFIED:20250618T234603Z
UID:10001633-1750766400-1750777200@southbayaor.com
SUMMARY:SBAOR Offices Will Be Closed from 12pm-3pm for SBAOR's Summer Splash
DESCRIPTION:
URL:https://southbayaor.com/event/sbaor-offices-will-be-closed-from-12pm-3pm-for-sbaors-summer-splash/
LOCATION:California
END:VEVENT
BEGIN:VEVENT
DTSTART;TZID=America/Los_Angeles:20250624T123000
DTEND;TZID=America/Los_Angeles:20250624T143000
DTSTAMP:20260421T081354
CREATED:20250512T235441Z
LAST-MODIFIED:20250527T234530Z
UID:10001587-1750768200-1750775400@southbayaor.com
SUMMARY:SBAOR Summer Splash
DESCRIPTION:Kick Off Your Summer with SBAOR\nJoin us for an unforgettable summer celebration!\nCome to Connect with fellow REALTORS\, Enjoy delicious food & some sweet desserts.\nGet ready to Dance to the beats of our live DJ\, play fun games and have a chance to Win exciting raffle prizes!\nDon’t miss out — let’s start this summer with a bang! \nMust register to attend \n \n 
URL:https://southbayaor.com/event/a-taste-of-the-world/
LOCATION:South Bay AOR\, Torrance\, California\, 90501
END:VEVENT
END:VCALENDAR