BEGIN:VCALENDAR
VERSION:2.0
PRODID:-//South Bay Association of Realtors - ECPv6.15.20//NONSGML v1.0//EN
CALSCALE:GREGORIAN
METHOD:PUBLISH
X-WR-CALNAME:South Bay Association of Realtors
X-ORIGINAL-URL:https://southbayaor.com
X-WR-CALDESC:Events for South Bay Association of Realtors
REFRESH-INTERVAL;VALUE=DURATION:PT1H
X-Robots-Tag:noindex
X-PUBLISHED-TTL:PT1H
BEGIN:VTIMEZONE
TZID:America/Los_Angeles
BEGIN:DAYLIGHT
TZOFFSETFROM:-0800
TZOFFSETTO:-0700
TZNAME:PDT
DTSTART:20240310T100000
END:DAYLIGHT
BEGIN:STANDARD
TZOFFSETFROM:-0700
TZOFFSETTO:-0800
TZNAME:PST
DTSTART:20241103T090000
END:STANDARD
BEGIN:DAYLIGHT
TZOFFSETFROM:-0800
TZOFFSETTO:-0700
TZNAME:PDT
DTSTART:20250309T100000
END:DAYLIGHT
BEGIN:STANDARD
TZOFFSETFROM:-0700
TZOFFSETTO:-0800
TZNAME:PST
DTSTART:20251102T090000
END:STANDARD
BEGIN:DAYLIGHT
TZOFFSETFROM:-0800
TZOFFSETTO:-0700
TZNAME:PDT
DTSTART:20260308T100000
END:DAYLIGHT
BEGIN:STANDARD
TZOFFSETFROM:-0700
TZOFFSETTO:-0800
TZNAME:PST
DTSTART:20261101T090000
END:STANDARD
END:VTIMEZONE
BEGIN:VEVENT
DTSTART;TZID=America/Los_Angeles:20250707T140000
DTEND;TZID=America/Los_Angeles:20250707T150000
DTSTAMP:20260422T212054
CREATED:20241212T214223Z
LAST-MODIFIED:20241212T214223Z
UID:10001489-1751896800-1751900400@southbayaor.com
SUMMARY:MLS Committee Meeting
DESCRIPTION:The mission of the MLS committee is to ensure that REALTORS® remain the primary source for information regarding real estate.  To interact with local Association-owned MLS/Regionals to enhance\, promote and implement policies regarding technology and changing information and promote and adopt model MLS Rules and policies that comply with legal requirements and N.A.R. policy. \nMeeting Date: Second Monday of the Month at 2:00pm (most cases) \nEmail eric@southbayaor.com if you are interested in being a member of the MLS Committee
URL:https://southbayaor.com/event/mls-committee-meeting-3/
LOCATION:Via Zoom
END:VEVENT
END:VCALENDAR