BEGIN:VCALENDAR
VERSION:2.0
PRODID:-//South Bay Association of Realtors - ECPv6.15.20//NONSGML v1.0//EN
CALSCALE:GREGORIAN
METHOD:PUBLISH
X-ORIGINAL-URL:https://southbayaor.com
X-WR-CALDESC:Events for South Bay Association of Realtors
REFRESH-INTERVAL;VALUE=DURATION:PT1H
X-Robots-Tag:noindex
X-PUBLISHED-TTL:PT1H
BEGIN:VTIMEZONE
TZID:UTC
BEGIN:STANDARD
TZOFFSETFROM:+0000
TZOFFSETTO:+0000
TZNAME:UTC
DTSTART:20240101T000000
END:STANDARD
END:VTIMEZONE
BEGIN:VTIMEZONE
TZID:America/Los_Angeles
BEGIN:DAYLIGHT
TZOFFSETFROM:-0800
TZOFFSETTO:-0700
TZNAME:PDT
DTSTART:20240310T100000
END:DAYLIGHT
BEGIN:STANDARD
TZOFFSETFROM:-0700
TZOFFSETTO:-0800
TZNAME:PST
DTSTART:20241103T090000
END:STANDARD
BEGIN:DAYLIGHT
TZOFFSETFROM:-0800
TZOFFSETTO:-0700
TZNAME:PDT
DTSTART:20250309T100000
END:DAYLIGHT
BEGIN:STANDARD
TZOFFSETFROM:-0700
TZOFFSETTO:-0800
TZNAME:PST
DTSTART:20251102T090000
END:STANDARD
BEGIN:DAYLIGHT
TZOFFSETFROM:-0800
TZOFFSETTO:-0700
TZNAME:PDT
DTSTART:20260308T100000
END:DAYLIGHT
BEGIN:STANDARD
TZOFFSETFROM:-0700
TZOFFSETTO:-0800
TZNAME:PST
DTSTART:20261101T090000
END:STANDARD
END:VTIMEZONE
BEGIN:VEVENT
DTSTART;TZID=UTC:20251028T100000
DTEND;TZID=UTC:20251028T110000
DTSTAMP:20260421T105351
CREATED:20241106T210017Z
LAST-MODIFIED:20241106T210017Z
UID:10001254-1761645600-1761649200@southbayaor.com
SUMMARY:Diversity\, Equity & Inclusion Committee Meeting
DESCRIPTION:The DEI Committee’s mission is to create an environment that reflects its culturally diverse membership and promote a representative Association leadership. \nPlease contact gina@southbayaor.com if you are interested in joining.
URL:https://southbayaor.com/event/diversity-equity-inclusion-committee-meeting-4/
LOCATION:Via Zoom
CATEGORIES:Committee Meetings
END:VEVENT
BEGIN:VEVENT
DTSTART;TZID=America/Los_Angeles:20251028T100000
DTEND;TZID=America/Los_Angeles:20251028T110000
DTSTAMP:20260421T105351
CREATED:20250828T190114Z
LAST-MODIFIED:20251016T231147Z
UID:10001671-1761645600-1761649200@southbayaor.com
SUMMARY:Rayse: The All-in-One Platform that Empowers Agents to Deliver Transparency\, Trust & Professionalism in Every Client Journey
DESCRIPTION:Rayse creates trust & transparency from the first meeting. Rayse maps out the real estate journey in real-time\, taking communication and collaboration to a whole new level. With tools like Buyer and Seller Services Presentations\, guided Journey workflows\, branded Client Portals\, and Closing Reports\, Rayse helps agents clearly communicate their value\, showcase their expertise\, and meet the modern consumer’s expectations for visibility and service at every step. Rayse tracks your progress and connects each client with anxiety-reducing data\, showing how many hours you spent on inquiry responses\, negotiating\, property previews\, analyzing market trends\, and more. \nClients can see\, in real-time what is happening\, when it happens. \nRayse is a CRMLS core product\, and is available now through your RECore dashboard.
URL:https://southbayaor.com/event/rayse-the-all-in-one-platform-that-empowers-agents-to-deliver-transparency-trust-professionalism-in-every-client-journey/
LOCATION:Via Zoom
CATEGORIES:Education,MLS Training
END:VEVENT
END:VCALENDAR