BEGIN:VCALENDAR
VERSION:2.0
PRODID:-//South Bay Association of Realtors - ECPv6.15.20//NONSGML v1.0//EN
CALSCALE:GREGORIAN
METHOD:PUBLISH
X-ORIGINAL-URL:https://southbayaor.com
X-WR-CALDESC:Events for South Bay Association of Realtors
REFRESH-INTERVAL;VALUE=DURATION:PT1H
X-Robots-Tag:noindex
X-PUBLISHED-TTL:PT1H
BEGIN:VTIMEZONE
TZID:America/Los_Angeles
BEGIN:DAYLIGHT
TZOFFSETFROM:-0800
TZOFFSETTO:-0700
TZNAME:PDT
DTSTART:20240310T100000
END:DAYLIGHT
BEGIN:STANDARD
TZOFFSETFROM:-0700
TZOFFSETTO:-0800
TZNAME:PST
DTSTART:20241103T090000
END:STANDARD
BEGIN:DAYLIGHT
TZOFFSETFROM:-0800
TZOFFSETTO:-0700
TZNAME:PDT
DTSTART:20250309T100000
END:DAYLIGHT
BEGIN:STANDARD
TZOFFSETFROM:-0700
TZOFFSETTO:-0800
TZNAME:PST
DTSTART:20251102T090000
END:STANDARD
BEGIN:DAYLIGHT
TZOFFSETFROM:-0800
TZOFFSETTO:-0700
TZNAME:PDT
DTSTART:20260308T100000
END:DAYLIGHT
BEGIN:STANDARD
TZOFFSETFROM:-0700
TZOFFSETTO:-0800
TZNAME:PST
DTSTART:20261101T090000
END:STANDARD
END:VTIMEZONE
BEGIN:VEVENT
DTSTART;TZID=America/Los_Angeles:20250318T100000
DTEND;TZID=America/Los_Angeles:20250318T110000
DTSTAMP:20260421T050413
CREATED:20250219T164947Z
LAST-MODIFIED:20250228T172018Z
UID:10001542-1742292000-1742295600@southbayaor.com
SUMMARY:Avoid the Pitfalls of Selling Homes in High Fire Severity Zones with WOWS Insurance and SnapNHD
DESCRIPTION:Join Mindy Regan from SnapNHD and Joel Silver from WOWS Insurance for an exciting class that provides real estate professionals with the tools and knowledge needed to navigate transactions in High Fire Severity Zones.\nGain expert insights into: – Determining if a property is located in a High Fire Severity Zone. – Understanding Defensible Space Inspections—who needs them and how to get them done. – Guiding sellers through the Fire Hardening and Defensible Space (FHDS) Form. – Strategies for helping buyers secure homeowners insurance in fire-prone areas. PLUS\, hear from WOWS Insurance about innovative insurance solutions\, including: – The first program fully transferable from seller to buyer in a real estate transaction. – HO3 policy with a $3M deductible for perils covered by the CA Fair Plan\, allowing for a separate policy to satisfy the deductible. – Major cost savings compared to current marketplace options. Don’t miss this opportunity to enhance your expertise and provide better support to your clients! Register today and elevate your real estate knowledge with Mindy Regan and SnapNHD!
URL:https://southbayaor.com/event/avoid-the-pitfalls-of-selling-homes-in-high-fire-severity-zones-with-wows-insurance-and-snapnhd/
LOCATION:Via Zoom
CATEGORIES:AIA Events,Education
END:VEVENT
BEGIN:VEVENT
DTSTART;TZID=America/Los_Angeles:20250324T110000
DTEND;TZID=America/Los_Angeles:20250324T120000
DTSTAMP:20260421T050413
CREATED:20250103T231233Z
LAST-MODIFIED:20250220T181054Z
UID:10001511-1742814000-1742817600@southbayaor.com
SUMMARY:Property Taxes and Sale Transactions
DESCRIPTION:The subject of property taxes in a sale transaction includes supplemental taxes\, regular taxes\, tax defaults and potentially tax auction scenarios which could impact a transaction closing. The issue of property tax rates being different in each area and also laws like Proposition 19 can also impact property taxes significantly. All agents should be familiar with the basics relating to property taxes in order to best benefit their clients. This talk will cover that and more.
URL:https://southbayaor.com/event/property-taxes-and-sale-transactions/
LOCATION:Via Zoom
CATEGORIES:AIA Events,Education
END:VEVENT
END:VCALENDAR