BEGIN:VCALENDAR
VERSION:2.0
PRODID:-//South Bay Association of Realtors - ECPv6.15.20//NONSGML v1.0//EN
CALSCALE:GREGORIAN
METHOD:PUBLISH
X-WR-CALNAME:South Bay Association of Realtors
X-ORIGINAL-URL:https://southbayaor.com
X-WR-CALDESC:Events for South Bay Association of Realtors
REFRESH-INTERVAL;VALUE=DURATION:PT1H
X-Robots-Tag:noindex
X-PUBLISHED-TTL:PT1H
BEGIN:VTIMEZONE
TZID:America/Los_Angeles
BEGIN:DAYLIGHT
TZOFFSETFROM:-0800
TZOFFSETTO:-0700
TZNAME:PDT
DTSTART:20230312T100000
END:DAYLIGHT
BEGIN:STANDARD
TZOFFSETFROM:-0700
TZOFFSETTO:-0800
TZNAME:PST
DTSTART:20231105T090000
END:STANDARD
BEGIN:DAYLIGHT
TZOFFSETFROM:-0800
TZOFFSETTO:-0700
TZNAME:PDT
DTSTART:20240310T100000
END:DAYLIGHT
BEGIN:STANDARD
TZOFFSETFROM:-0700
TZOFFSETTO:-0800
TZNAME:PST
DTSTART:20241103T090000
END:STANDARD
BEGIN:DAYLIGHT
TZOFFSETFROM:-0800
TZOFFSETTO:-0700
TZNAME:PDT
DTSTART:20250309T100000
END:DAYLIGHT
BEGIN:STANDARD
TZOFFSETFROM:-0700
TZOFFSETTO:-0800
TZNAME:PST
DTSTART:20251102T090000
END:STANDARD
END:VTIMEZONE
BEGIN:VEVENT
DTSTART;TZID=America/Los_Angeles:20241001T090000
DTEND;TZID=America/Los_Angeles:20241001T100000
DTSTAMP:20260423T144222
CREATED:20240910T180053Z
LAST-MODIFIED:20240910T180246Z
UID:10001221-1727773200-1727776800@southbayaor.com
SUMMARY:MLS Virtual Training: ShowingTime for the MLS
DESCRIPTION:Track and maximize your showings with ShowingTime\, the online scheduling and management solution. With full MLS integration\, online scheduling\, 24/7 system access\, and immediate appointment confirmation\, you can maximize your showings and make them hassle-free. \nTopics include: \n\nAccessing ShowingTime from a desktop or mobile device\nSetting up showing schedules for your listing and submit a request as a buyer’s agent\nAdding Showing Carts and Tours\nReceiving and reviewing showing requests via email\, call\, and text\nConfirming appointments and setting up Driving Directions\n…and more.
URL:https://southbayaor.com/event/mls-virtual-training-showingtime-for-the-mls-4/
LOCATION:Via Zoom
CATEGORIES:Education,MLS Training
END:VEVENT
BEGIN:VEVENT
DTSTART;TZID=America/Los_Angeles:20241001T100000
DTEND;TZID=America/Los_Angeles:20241001T110000
DTSTAMP:20260423T144222
CREATED:20231130T205324Z
LAST-MODIFIED:20231130T205324Z
UID:10000994-1727776800-1727780400@southbayaor.com
SUMMARY:How to Take a Listing in Probate & Trust
DESCRIPTION:Understand the probate process from the perspective of a real estate agent. \n• How to take a listing in a trust.\n• How to take a listing in a probate\n• How to pass your home to your children tax-free.\n• The Probate Process from A-Z for Realtors.
URL:https://southbayaor.com/event/how-to-take-a-listing-in-probate-trust-2/
LOCATION:Via Zoom
CATEGORIES:Education
END:VEVENT
BEGIN:VEVENT
DTSTART;TZID=America/Los_Angeles:20241015T110000
DTEND;TZID=America/Los_Angeles:20241015T120000
DTSTAMP:20260423T144222
CREATED:20240919T165946Z
LAST-MODIFIED:20241015T164622Z
UID:10001229-1728990000-1728993600@southbayaor.com
SUMMARY:Mastering Success: Strategic Goal Setting for REALTORS - LIVE AT SBAOR
DESCRIPTION:Unlock your real estate potential with “Mastering Success: Strategic Goal Setting for Realtors.” This power-packed master class will teach you how to set actionable goals\, create a 90-day plan\, and build accountability systems. Whether you’re looking to close more deals\, grow your listings\, or increase productivity\, this class will give you the tools to plan and execute your path to success.. Take charge of your business today and achieve more—sign up today!
URL:https://southbayaor.com/event/mastering-success-strategic-goal-setting-for-realtors-live-at-sbaor/
LOCATION:South Bay AOR\, Torrance\, California\, 90501
CATEGORIES:Education
END:VEVENT
BEGIN:VEVENT
DTSTART;TZID=America/Los_Angeles:20241017T090000
DTEND;TZID=America/Los_Angeles:20241017T100000
DTSTAMP:20260423T144222
CREATED:20240910T180423Z
LAST-MODIFIED:20240910T180515Z
UID:10001222-1729155600-1729159200@southbayaor.com
SUMMARY:MLS Virtual Training: Homes Pro App
DESCRIPTION:The Homes Pro app (formerly Homesnap)\, powered by Homes.com\, offers tools for client collaboration\, lead capture\, and building your business. \nTopics include: \n\nGetting started with your Homes Pro account\nAccessing your Homes Pro account on desktop and mobile\nHow to search for listings\nUsing collaboration tools with your clients and other agents\n…and more.
URL:https://southbayaor.com/event/mls-virtual-training-homes-pro-app-2/
LOCATION:Via Zoom
CATEGORIES:Education,MLS Training
END:VEVENT
BEGIN:VEVENT
DTSTART;TZID=America/Los_Angeles:20241022T100000
DTEND;TZID=America/Los_Angeles:20241022T110000
DTSTAMP:20260423T144222
CREATED:20240913T235257Z
LAST-MODIFIED:20240930T194343Z
UID:10001227-1729591200-1729594800@southbayaor.com
SUMMARY:Cryptocurrency & Real Estate
DESCRIPTION:• How property deals get done with crypto: The escrow process & red flags & green flags to look for\n• How to qualify a crypto buyer: Dos and don’ts\, the questions to ask\n• How lending works with crypto clients\n• Tax implications\n• Q&A
URL:https://southbayaor.com/event/cryptocurrency-real-estate/
LOCATION:Via Zoom
CATEGORIES:Education
END:VEVENT
BEGIN:VEVENT
DTSTART;TZID=America/Los_Angeles:20241023T100000
DTEND;TZID=America/Los_Angeles:20241023T110000
DTSTAMP:20260423T144222
CREATED:20240911T232756Z
LAST-MODIFIED:20240911T232756Z
UID:10001226-1729677600-1729681200@southbayaor.com
SUMMARY:Dog Bit your Ass-ets? Slipped and Fell into Financial Ruin? Homeowner’s Insurance Has You Covered - LIVE AT SBAOR
DESCRIPTION:The South Bay’s premier injury attorney\, Vince Xu\, discusses why Homeowner’s Insurance is essential to protect against premises liability and dog bite lawsuits.
URL:https://southbayaor.com/event/dog-bit-your-ass-ets-slipped-and-fell-into-financial-ruin-homeowners-insurance-has-you-covered-live-at-sbaor/
LOCATION:South Bay AOR\, Torrance\, California\, 90501
CATEGORIES:Education
END:VEVENT
BEGIN:VEVENT
DTSTART;TZID=America/Los_Angeles:20241023T113000
DTEND;TZID=America/Los_Angeles:20241023T123000
DTSTAMP:20260423T144222
CREATED:20240917T214324Z
LAST-MODIFIED:20241021T180303Z
UID:10001228-1729683000-1729686600@southbayaor.com
SUMMARY:Reversing Your Thoughts on Reverse Mortgages: How to Buy Using a Reverse Mortgage - RESCHEDULED TO 2025
DESCRIPTION:Understand the dynamics of all that a reserve mortgage has to offer in a purchase transaction and debunk the myths of what reverse mortgages used to be.
URL:https://southbayaor.com/event/reversing-your-thoughts-on-reserve-mortgages-how-to-buy-using-a-reverse-mortgage-live-at-sbaor/
LOCATION:SBAOR
CATEGORIES:AIA Events,Education
END:VEVENT
BEGIN:VEVENT
DTSTART;TZID=America/Los_Angeles:20241024T100000
DTEND;TZID=America/Los_Angeles:20241024T110000
DTSTAMP:20260423T144222
CREATED:20240911T231848Z
LAST-MODIFIED:20241009T000849Z
UID:10001225-1729764000-1729767600@southbayaor.com
SUMMARY:AI Magic for Real Estate
DESCRIPTION:Everywhere we look\, AI is a hot topic. In this webinar\, we’ll dive into easy ways to level up your marketing game plan for this Fall Market and beyond! \n\n• AI content creation for email\, text\, and social media\n• Best practices to keep authenticity in your brand\n• Tools to make your life easier and stay in compliance!
URL:https://southbayaor.com/event/ai-magic-for-real-estate/
LOCATION:Via Zoom
CATEGORIES:Education
END:VEVENT
BEGIN:VEVENT
DTSTART;TZID=America/Los_Angeles:20241028T090000
DTEND;TZID=America/Los_Angeles:20241028T143000
DTSTAMP:20260423T144222
CREATED:20241003T223421Z
LAST-MODIFIED:20241024T161141Z
UID:10001232-1730106000-1730125800@southbayaor.com
SUMMARY:Role Playing & Discussion of the Updated C.A.R. Forms - LIVE AT SBAOR
DESCRIPTION:Back by multiple demands! Your concerns were vocalized regarding the changes in real estate practices. Put your mind as ease knowing you have what it takes to protect your business and guarantee exceptional service to your clients. \nJoin Ginni Field and your real estate colleagues for an all-day discussion and role-playing session. Learn how to answer questions and handle concerns with clients as you interact scenarios involving Sellers\, Buyers\, and Open Houses. \nFree for South Bay AOR REALTOR Members! \nPlease bring with you the following C.A.R. forms: \n\nRLA\nMLSA\nBRBC\nOHNA-SI\nPSRA\nBCA\nRPA\nSPBB\nMT-BR\nNBIP\n\n**NO-SHOW & CANCELLATION NOTICE: There will be a $50 fee if you do not show up or cancel your registration by Oct 25 at 5pm
URL:https://southbayaor.com/event/role-playing-discussion-of-the-updated-c-a-r-forms-live-at-sbaor/
LOCATION:South Bay AOR\, Torrance\, California\, 90501
CATEGORIES:Education
END:VEVENT
END:VCALENDAR