BEGIN:VCALENDAR
VERSION:2.0
PRODID:-//South Bay Association of Realtors - ECPv6.15.20//NONSGML v1.0//EN
CALSCALE:GREGORIAN
METHOD:PUBLISH
X-ORIGINAL-URL:https://southbayaor.com
X-WR-CALDESC:Events for South Bay Association of Realtors
REFRESH-INTERVAL;VALUE=DURATION:PT1H
X-Robots-Tag:noindex
X-PUBLISHED-TTL:PT1H
BEGIN:VTIMEZONE
TZID:America/Los_Angeles
BEGIN:DAYLIGHT
TZOFFSETFROM:-0800
TZOFFSETTO:-0700
TZNAME:PDT
DTSTART:20230312T100000
END:DAYLIGHT
BEGIN:STANDARD
TZOFFSETFROM:-0700
TZOFFSETTO:-0800
TZNAME:PST
DTSTART:20231105T090000
END:STANDARD
BEGIN:DAYLIGHT
TZOFFSETFROM:-0800
TZOFFSETTO:-0700
TZNAME:PDT
DTSTART:20240310T100000
END:DAYLIGHT
BEGIN:STANDARD
TZOFFSETFROM:-0700
TZOFFSETTO:-0800
TZNAME:PST
DTSTART:20241103T090000
END:STANDARD
BEGIN:DAYLIGHT
TZOFFSETFROM:-0800
TZOFFSETTO:-0700
TZNAME:PDT
DTSTART:20250309T100000
END:DAYLIGHT
BEGIN:STANDARD
TZOFFSETFROM:-0700
TZOFFSETTO:-0800
TZNAME:PST
DTSTART:20251102T090000
END:STANDARD
END:VTIMEZONE
BEGIN:VTIMEZONE
TZID:UTC
BEGIN:STANDARD
TZOFFSETFROM:+0000
TZOFFSETTO:+0000
TZNAME:UTC
DTSTART:20230101T000000
END:STANDARD
END:VTIMEZONE
BEGIN:VEVENT
DTSTART;TZID=America/Los_Angeles:20241105T100000
DTEND;TZID=America/Los_Angeles:20241105T110000
DTSTAMP:20260423T105731
CREATED:20240821T192010Z
LAST-MODIFIED:20241024T180654Z
UID:10001207-1730800800-1730804400@southbayaor.com
SUMMARY:2024–2025 TAX UPDATE to Investment Property and the 1031 Tax Deferred Exchange
DESCRIPTION:1- Is the Exchange going away soon?\n2- Are Cap Gain Taxes going Up or Down?\n3- What’s happening with the Estate Tax? What is it?\n4- Will CA Tax me IF I move my property to another state?\n5- Can a Non-Resident (foreigner) do an Exchange?\n6- Why are investors continuing to re-leverage?\n7- And DO MUCH MORE!!!!!
URL:https://southbayaor.com/event/2024-2025-tax-update-to-investment-property-and-the-1031-tax-deferred-exchange/
LOCATION:Via Zoom
CATEGORIES:Education
END:VEVENT
BEGIN:VEVENT
DTSTART;TZID=America/Los_Angeles:20241106T090000
DTEND;TZID=America/Los_Angeles:20241106T100000
DTSTAMP:20260423T105731
CREATED:20240910T180645Z
LAST-MODIFIED:20240910T180645Z
UID:10001223-1730883600-1730887200@southbayaor.com
SUMMARY:MLS Virtual Training: MLS-Touch
DESCRIPTION:MLS-Touch is a mobile app that connects you to the MLS when you’re on the go. Search by map\, share listings with your clients\, find other agents\, and manage your contacts\, all right from your phone. MLS-Touch features a special integration with CRMLS Matrix for additional capabilities. \nTopics include: \n\nApp installation and account setup\nSearching for listings and comparables\nAccessing live market statistics on-the-go\nHow to share branded apps with your clients\nAdditional Matrix-only integration options\n…and more.
URL:https://southbayaor.com/event/mls-virtual-training-mls-touch/
LOCATION:Via Zoom
CATEGORIES:Education,MLS Training
END:VEVENT
BEGIN:VEVENT
DTSTART;TZID=America/Los_Angeles:20241106T100000
DTEND;TZID=America/Los_Angeles:20241106T110000
DTSTAMP:20260423T105731
CREATED:20241024T155409Z
LAST-MODIFIED:20241024T160529Z
UID:10001244-1730887200-1730890800@southbayaor.com
SUMMARY:Open House Safety
DESCRIPTION:Join Police Reserve volunteer\, Steve Kahan\, demonstrates the best practices to ensure that you and your visitors remain safe during your open houses. It is not just awareness but how to handle situations. Learn how to be prepared and stay safe for any situation.
URL:https://southbayaor.com/event/open-house-safety/
LOCATION:Via Zoom
CATEGORIES:Education
END:VEVENT
BEGIN:VEVENT
DTSTART;TZID=America/Los_Angeles:20241112T110000
DTEND;TZID=America/Los_Angeles:20241112T120000
DTSTAMP:20260423T105731
CREATED:20241010T205422Z
LAST-MODIFIED:20241112T171538Z
UID:10001239-1731409200-1731412800@southbayaor.com
SUMMARY:Buy Now\, Sell Later - CANCELLED
DESCRIPTION:Allows sellers to secure their next property non-contingent on the sale of their departing residence. \n\nLeverage equity from their departing residence\nQualify ONLY on the new mortgage payment for their upleg\nExclude current mortgage payment from their overall debt\nClose as quickly as 21 days\nDO NOT need to list departing residence\n\nBuy Now Sell Later Flyer
URL:https://southbayaor.com/event/buy-now-sell-later-live-at-sbaor/
LOCATION:South Bay AOR\, Torrance\, California\, 90501
CATEGORIES:AIA Events,Education
END:VEVENT
BEGIN:VEVENT
DTSTART;TZID=America/Los_Angeles:20241113T130000
DTEND;TZID=America/Los_Angeles:20241113T160000
DTSTAMP:20260423T105731
CREATED:20241003T221837Z
LAST-MODIFIED:20241008T222740Z
UID:10001231-1731502800-1731513600@southbayaor.com
SUMMARY:Get Familiar with the New & Updated C.A.R. Forms
DESCRIPTION:The class will cover:\n• Where do you find the “Newest” CAR Forms?\n• Who puts these things together… where do they come from?!\n• We go over the BRBC\, RLA and RPA\, plus some others you won’t believe!\n• What you need to know to stay up to date on the over 250 forms!\n• Forms Tutor and Forms Advisor (now called Forms Suggestion Tool)
URL:https://southbayaor.com/event/get-familiar-with-the-updated-c-a-r-forms/
LOCATION:Via Zoom
CATEGORIES:Education
END:VEVENT
BEGIN:VEVENT
DTSTART;TZID=America/Los_Angeles:20241118T140000
DTEND;TZID=America/Los_Angeles:20241118T160000
DTSTAMP:20260423T105731
CREATED:20241024T160502Z
LAST-MODIFIED:20241115T225035Z
UID:10001246-1731938400-1731945600@southbayaor.com
SUMMARY:Vision Board - LIVE AT SBAOR
DESCRIPTION:Kickstart the new year with clarity and purpose by attending our 2025 Vision Board Workshop. This interactive session will guide you through the process of visualizing and setting your goals for the year ahead—whether they are personal\, professional\, or a mix of both. Realtor related business plan will be provided complementary. \n𝐖𝐡𝐚𝐭 𝐭𝐨 𝐄𝐱𝐩𝐞𝐜𝐭:\n·Hands-on support to create your unique vision board\n·Guided exercises to help you reflect on your aspirations\n·Tips on goal setting\, manifesting success\, and staying motivated. \nAll vision board material (boards\, scissors\, glue\, Magazine) will be provided\, courtesy of Anastasia Bonholtzer and Mindy Regan but free to bring any personal photos or items you’d like to include on your board.
URL:https://southbayaor.com/event/vision-board-live-at-sbaor/
LOCATION:South Bay AOR\, Torrance\, California\, 90501
CATEGORIES:AIA Events,Education,Special Events
END:VEVENT
BEGIN:VEVENT
DTSTART;TZID=America/Los_Angeles:20241119T090000
DTEND;TZID=America/Los_Angeles:20241119T100000
DTSTAMP:20260423T105731
CREATED:20240910T181030Z
LAST-MODIFIED:20240910T181030Z
UID:10001224-1732006800-1732010400@southbayaor.com
SUMMARY:MLS Virtual Training: Down Property Resource
DESCRIPTION:Learn how to use Down Payment Resource (DPR) to scan over 2\,000 home ownership programs from housing finance agency partners to find the right down payment assistance programs for your clients. \nTopics include: \n\nAccessing Down Payment Resource\nHow clients can use Down Payment Resource in their portals\nAn overview of Down Payment Resource Connect\n…and more.
URL:https://southbayaor.com/event/mls-virtual-training-down-property-resource/
LOCATION:Via Zoom
CATEGORIES:Education,MLS Training
END:VEVENT
BEGIN:VEVENT
DTSTART;TZID=UTC:20241120T090000
DTEND;TZID=UTC:20241120T123000
DTSTAMP:20260423T105731
CREATED:20231025T174944Z
LAST-MODIFIED:20240913T175922Z
UID:10000650-1732093200-1732105800@southbayaor.com
SUMMARY:Orientation - LIVE at SBAOR
DESCRIPTION:
URL:https://southbayaor.com/event/orientation-live-at-sbaor-7/
LOCATION:SBAOR
CATEGORIES:Education
END:VEVENT
END:VCALENDAR