BEGIN:VCALENDAR
VERSION:2.0
PRODID:-//South Bay Association of Realtors - ECPv6.15.20//NONSGML v1.0//EN
CALSCALE:GREGORIAN
METHOD:PUBLISH
X-ORIGINAL-URL:https://southbayaor.com
X-WR-CALDESC:Events for South Bay Association of Realtors
REFRESH-INTERVAL;VALUE=DURATION:PT1H
X-Robots-Tag:noindex
X-PUBLISHED-TTL:PT1H
BEGIN:VTIMEZONE
TZID:America/Los_Angeles
BEGIN:DAYLIGHT
TZOFFSETFROM:-0800
TZOFFSETTO:-0700
TZNAME:PDT
DTSTART:20230312T100000
END:DAYLIGHT
BEGIN:STANDARD
TZOFFSETFROM:-0700
TZOFFSETTO:-0800
TZNAME:PST
DTSTART:20231105T090000
END:STANDARD
BEGIN:DAYLIGHT
TZOFFSETFROM:-0800
TZOFFSETTO:-0700
TZNAME:PDT
DTSTART:20240310T100000
END:DAYLIGHT
BEGIN:STANDARD
TZOFFSETFROM:-0700
TZOFFSETTO:-0800
TZNAME:PST
DTSTART:20241103T090000
END:STANDARD
BEGIN:DAYLIGHT
TZOFFSETFROM:-0800
TZOFFSETTO:-0700
TZNAME:PDT
DTSTART:20250309T100000
END:DAYLIGHT
BEGIN:STANDARD
TZOFFSETFROM:-0700
TZOFFSETTO:-0800
TZNAME:PST
DTSTART:20251102T090000
END:STANDARD
END:VTIMEZONE
BEGIN:VEVENT
DTSTART;TZID=America/Los_Angeles:20241118T140000
DTEND;TZID=America/Los_Angeles:20241118T160000
DTSTAMP:20260423T124522
CREATED:20241024T160502Z
LAST-MODIFIED:20241115T225035Z
UID:10001246-1731938400-1731945600@southbayaor.com
SUMMARY:Vision Board - LIVE AT SBAOR
DESCRIPTION:Kickstart the new year with clarity and purpose by attending our 2025 Vision Board Workshop. This interactive session will guide you through the process of visualizing and setting your goals for the year ahead—whether they are personal\, professional\, or a mix of both. Realtor related business plan will be provided complementary. \n𝐖𝐡𝐚𝐭 𝐭𝐨 𝐄𝐱𝐩𝐞𝐜𝐭:\n·Hands-on support to create your unique vision board\n·Guided exercises to help you reflect on your aspirations\n·Tips on goal setting\, manifesting success\, and staying motivated. \nAll vision board material (boards\, scissors\, glue\, Magazine) will be provided\, courtesy of Anastasia Bonholtzer and Mindy Regan but free to bring any personal photos or items you’d like to include on your board.
URL:https://southbayaor.com/event/vision-board-live-at-sbaor/
LOCATION:South Bay AOR\, Torrance\, California\, 90501
CATEGORIES:AIA Events,Education,Special Events
END:VEVENT
END:VCALENDAR