BEGIN:VCALENDAR
VERSION:2.0
PRODID:-//South Bay Association of Realtors - ECPv6.15.20//NONSGML v1.0//EN
CALSCALE:GREGORIAN
METHOD:PUBLISH
X-ORIGINAL-URL:https://southbayaor.com
X-WR-CALDESC:Events for South Bay Association of Realtors
REFRESH-INTERVAL;VALUE=DURATION:PT1H
X-Robots-Tag:noindex
X-PUBLISHED-TTL:PT1H
BEGIN:VTIMEZONE
TZID:America/Los_Angeles
BEGIN:DAYLIGHT
TZOFFSETFROM:-0800
TZOFFSETTO:-0700
TZNAME:PDT
DTSTART:20230312T100000
END:DAYLIGHT
BEGIN:STANDARD
TZOFFSETFROM:-0700
TZOFFSETTO:-0800
TZNAME:PST
DTSTART:20231105T090000
END:STANDARD
BEGIN:DAYLIGHT
TZOFFSETFROM:-0800
TZOFFSETTO:-0700
TZNAME:PDT
DTSTART:20240310T100000
END:DAYLIGHT
BEGIN:STANDARD
TZOFFSETFROM:-0700
TZOFFSETTO:-0800
TZNAME:PST
DTSTART:20241103T090000
END:STANDARD
BEGIN:DAYLIGHT
TZOFFSETFROM:-0800
TZOFFSETTO:-0700
TZNAME:PDT
DTSTART:20250309T100000
END:DAYLIGHT
BEGIN:STANDARD
TZOFFSETFROM:-0700
TZOFFSETTO:-0800
TZNAME:PST
DTSTART:20251102T090000
END:STANDARD
END:VTIMEZONE
BEGIN:VEVENT
DTSTART;TZID=America/Los_Angeles:20241119T090000
DTEND;TZID=America/Los_Angeles:20241119T100000
DTSTAMP:20260423T144555
CREATED:20240910T181030Z
LAST-MODIFIED:20240910T181030Z
UID:10001224-1732006800-1732010400@southbayaor.com
SUMMARY:MLS Virtual Training: Down Property Resource
DESCRIPTION:Learn how to use Down Payment Resource (DPR) to scan over 2\,000 home ownership programs from housing finance agency partners to find the right down payment assistance programs for your clients. \nTopics include: \n\nAccessing Down Payment Resource\nHow clients can use Down Payment Resource in their portals\nAn overview of Down Payment Resource Connect\n…and more.
URL:https://southbayaor.com/event/mls-virtual-training-down-property-resource/
LOCATION:Via Zoom
CATEGORIES:Education,MLS Training
END:VEVENT
END:VCALENDAR