BEGIN:VCALENDAR
VERSION:2.0
PRODID:-//South Bay Association of Realtors - ECPv6.15.20//NONSGML v1.0//EN
CALSCALE:GREGORIAN
METHOD:PUBLISH
X-ORIGINAL-URL:https://southbayaor.com
X-WR-CALDESC:Events for South Bay Association of Realtors
REFRESH-INTERVAL;VALUE=DURATION:PT1H
X-Robots-Tag:noindex
X-PUBLISHED-TTL:PT1H
BEGIN:VTIMEZONE
TZID:UTC
BEGIN:STANDARD
TZOFFSETFROM:+0000
TZOFFSETTO:+0000
TZNAME:UTC
DTSTART:20240101T000000
END:STANDARD
END:VTIMEZONE
BEGIN:VEVENT
DTSTART;TZID=UTC:20250520T090000
DTEND;TZID=UTC:20250520T100000
DTSTAMP:20260423T011321
CREATED:20250225T181346Z
LAST-MODIFIED:20250225T181630Z
UID:10001563-1747731600-1747735200@southbayaor.com
SUMMARY:MLS Virtual Training: CRMLS Marketing Solutions
DESCRIPTION:This course covers some of the marketing tools CRMLS has to offer. With these products\, you can boost your brand and increase your listings’ reach. \nTopics include: \n\nCloud CMA\nREALTORS Property Resource (RPR)\nDown Payment Resource\nListReports\nRatePlug\n…and more.
URL:https://southbayaor.com/event/mls-virtual-training-crmls-marketing-solutions-2/
LOCATION:Via Zoom
CATEGORIES:Education,MLS Training
END:VEVENT
END:VCALENDAR