BEGIN:VCALENDAR
VERSION:2.0
PRODID:-//South Bay Association of Realtors - ECPv6.15.20//NONSGML v1.0//EN
CALSCALE:GREGORIAN
METHOD:PUBLISH
X-ORIGINAL-URL:https://southbayaor.com
X-WR-CALDESC:Events for South Bay Association of Realtors
REFRESH-INTERVAL;VALUE=DURATION:PT1H
X-Robots-Tag:noindex
X-PUBLISHED-TTL:PT1H
BEGIN:VTIMEZONE
TZID:America/Los_Angeles
BEGIN:DAYLIGHT
TZOFFSETFROM:-0800
TZOFFSETTO:-0700
TZNAME:PDT
DTSTART:20230312T100000
END:DAYLIGHT
BEGIN:STANDARD
TZOFFSETFROM:-0700
TZOFFSETTO:-0800
TZNAME:PST
DTSTART:20231105T090000
END:STANDARD
BEGIN:DAYLIGHT
TZOFFSETFROM:-0800
TZOFFSETTO:-0700
TZNAME:PDT
DTSTART:20240310T100000
END:DAYLIGHT
BEGIN:STANDARD
TZOFFSETFROM:-0700
TZOFFSETTO:-0800
TZNAME:PST
DTSTART:20241103T090000
END:STANDARD
BEGIN:DAYLIGHT
TZOFFSETFROM:-0800
TZOFFSETTO:-0700
TZNAME:PDT
DTSTART:20250309T100000
END:DAYLIGHT
BEGIN:STANDARD
TZOFFSETFROM:-0700
TZOFFSETTO:-0800
TZNAME:PST
DTSTART:20251102T090000
END:STANDARD
BEGIN:DAYLIGHT
TZOFFSETFROM:-0800
TZOFFSETTO:-0700
TZNAME:PDT
DTSTART:20260308T100000
END:DAYLIGHT
BEGIN:STANDARD
TZOFFSETFROM:-0700
TZOFFSETTO:-0800
TZNAME:PST
DTSTART:20261101T090000
END:STANDARD
END:VTIMEZONE
BEGIN:VTIMEZONE
TZID:UTC
BEGIN:STANDARD
TZOFFSETFROM:+0000
TZOFFSETTO:+0000
TZNAME:UTC
DTSTART:20220101T000000
END:STANDARD
END:VTIMEZONE
BEGIN:VEVENT
DTSTART;TZID=America/Los_Angeles:20250625T153000
DTEND;TZID=America/Los_Angeles:20250625T180000
DTSTAMP:20260421T121043
CREATED:20250530T201044Z
LAST-MODIFIED:20250617T184735Z
UID:10001625-1750865400-1750874400@southbayaor.com
SUMMARY:SBAOR Beach Cities Mayor Panel
DESCRIPTION:Join us for an unforgettable afternoon of insight\, inspiration\, and coastal camaraderie at the SBAOR Beach Cities Mayor Panel – a dynamic event bringing together the visionary leaders of our vibrant seaside communities. Enjoy networking while the mayors from Redondo Beach\, Manhattan Beach and Hermosa Beach take the stage to discuss bold initiatives\, regional challenges\, and the future of our beloved coastal cities. This is your chance to connect\, learn\, and be a part of the conversation shaping our shores. \n  \nEvent Location: Bluewater Grill – 665 N Harbor Dr. Redondo Beach\, CA 90277 \n  \n3:30 PM    CHECK-IN & BUFFETT \n4:00 PM     PROGRAM \n5:30 PM   NETWORKING \n  \nNOTE: YOU MUST REGISTER IN ADVANCE TO ATTEND. WE WILL NOT BE ABLE TO ACCOMODATE ANY WALK-INS! \n  \nALL ATTENDEES ARE REQUIRED: to buy a backpack here – https://bit.ly/4mMd2zJ – PLEASE INCLUDE YOUR NAME ON YOUR ORDER. \n  \nYou can also bring a NEW backpack to the event that will directly benefit foster children in the South Bay. \n  \n“THIS IS A REALTOR ONLY EVENT! NO VENDORS OR AFFILLIATES EXCEPT 2025 YPN & COMMUNITY COMMITTEE SPONSORS” \n  \n**NO-SHOW FEE $50** Please note: The SBAOR will charge a No-Show Fee for any registrants who do not attend the event or for anyone who cancels after June 18th at 5PM. \n 
URL:https://southbayaor.com/event/sbaor-beach-cities-mayor-panel/
LOCATION:Bluewater Grill\, 665 N Harbor Dr\, Redondo Beach\, CA\, 90277\, United States
CATEGORIES:Special Events
END:VEVENT
BEGIN:VEVENT
DTSTART;TZID=America/Los_Angeles:20240613T160000
DTEND;TZID=America/Los_Angeles:20240613T180000
DTSTAMP:20260421T121043
CREATED:20240430T170440Z
LAST-MODIFIED:20240430T180434Z
UID:10001129-1718294400-1718301600@southbayaor.com
SUMMARY:SBAOR Beach Cities Mayoral Panel
DESCRIPTION:Join us for a lively and informative panel discussion! The Honorable Mayors of Redondo Beach\, Hermosa Beach\, and Manhattan Beach will share how they are working to make the South Bay an even better place. Have a question you’d like to ask?  Email gina@southbayaor.com by June 5th. \n  \nLocation: Bluewater Grill \n665 N Harbor Dr. Redondo Beach\, CA 90277 \n  \nNOTE: YOU MUST REGISTER IN ADVANCE TO ATTEND. WE WILL NOT BE ABLE TO ACCOMODATE ANY WALK-INS! \n  \nALL ATTENDEES ARE REQUIRED: To bring a NEW backpack which will directly benefit foster children in the South Bay area. \n  \n“THIS IS A REALTOR ONLY EVENT! NO VENDORS OR AFFILLIATES EXCEPT 2024 YPN & COMMUNITY COMMITTEE SPONSORS” \n  \n**NO-SHOW FEE $50** Please note: The SBAOR will charge a No-Show Fee for any registrants who do not attend the event or for anyone who cancels after June 6th at 5PM.
URL:https://southbayaor.com/event/sbaor-beach-cities-mayoral-panel/
LOCATION:Bluewater Grill\, 665 N Harbor Dr\, Redondo Beach\, CA\, 90277\, United States
CATEGORIES:Special Events
END:VEVENT
BEGIN:VEVENT
DTSTART;TZID=UTC:20230330T160000
DTEND;TZID=UTC:20230330T180000
DTSTAMP:20260421T121043
CREATED:20230315T041742Z
LAST-MODIFIED:20230315T041742Z
UID:10000474-1680192000-1680199200@southbayaor.com
SUMMARY:Improving Your Work-Life Balance (YPN Mixer)
DESCRIPTION:South Bay YPN Presents: Improving Your Work-Life Balance Mixer with Special Speaker Stacy Smiter \nStacy is the 2023-2024 NAR YPN Advisory Board of Director-at-Large. He is a huge advocate for it within our industry\, he mentors and provides methods to new agents about work life balance and the importance of it. He is also a Real Estate Broker in Wisconsin and has been a Realtor for over 5 years. He has two degrees in Quality Management and Business Administration & Management. Stacy also teaches a class on how to become a Real Estate Agent for High School Seniors in addition to teaching the work-life balance class. \n 
URL:https://southbayaor.com/event/improving-your-work-life-balance-ypn-mixer/
LOCATION:Bluewater Grill\, 665 N Harbor Dr\, Redondo Beach\, CA\, 90277\, United States
CATEGORIES:Special Events
END:VEVENT
END:VCALENDAR